BEGIN:VCALENDAR
PRODID:PlannerXE123
VERSION:2.0
CALSCALE:GREGORIAN
METHOD:PUBLISH
BEGIN:VEVENT
DTSTART:20250723
DTEND:20250724
DTSTAMP:20260421T174725Z
UID:(jslocal.org_8952)
CREATED:20260421T174725Z
DESCRIPTION:일시 &amp; 장소 15:00, 1층 프로그램실주요 내용장수누리 사회적협동조합 총회\n\n<a href="http://jslocal.org/calendar/8952?iCal=ics_event&pGanjioption=1&document_srl=8952">원본일정</a>
LOCATION:
SEQUENCE:1
STATUS:CONFIRMED
SUMMARY:장수누리 사회적협동조합 총회
TRANSP:TRANSPARENT
END:VEVENT
END:VCALENDAR
