BEGIN:VCALENDAR
PRODID:PlannerXE123
VERSION:2.0
CALSCALE:GREGORIAN
METHOD:PUBLISH
BEGIN:VEVENT
DTSTART:20250716
DTEND:20250717
DTSTAMP:20260421T174726Z
UID:(jslocal.org_8946)
CREATED:20260421T174726Z
DESCRIPTION:일시 &amp; 장소 14:00 ~16:00주요 내용 장수극단\n\n<a href="http://jslocal.org/calendar/8946?iCal=ics_event&pGanjioption=1&document_srl=8946">원본일정</a>
LOCATION:
SEQUENCE:1
STATUS:CONFIRMED
SUMMARY:장수극단
TRANSP:TRANSPARENT
END:VEVENT
END:VCALENDAR
