BEGIN:VCALENDAR
PRODID:PlannerXE123
VERSION:2.0
CALSCALE:GREGORIAN
METHOD:PUBLISH
BEGIN:VEVENT
DTSTART:20250715
DTEND:20250716
DTSTAMP:20260423T180841Z
UID:(jslocal.org_8941)
CREATED:20260423T180841Z
DESCRIPTION:일시 &amp; 장소 10:30주요 내용 신기마을 건강체조\n\n<a href="http://jslocal.org/calendar/8941?iCal=ics_event&document_srl=8941">원본일정</a>
LOCATION:
SEQUENCE:1
STATUS:CONFIRMED
SUMMARY:신기마을 건강체조
TRANSP:TRANSPARENT
END:VEVENT
END:VCALENDAR
