BEGIN:VCALENDAR
PRODID:PlannerXE123
VERSION:2.0
CALSCALE:GREGORIAN
METHOD:PUBLISH
BEGIN:VEVENT
DTSTART:20250711
DTEND:20250712
DTSTAMP:20260421T174726Z
UID:(jslocal.org_8937)
CREATED:20260421T174726Z
DESCRIPTION:일시 &amp; 장소 13:30주요 내용 원쟝안마을 현장포럼\n\n<a href="http://jslocal.org/calendar/8937?iCal=ics_event&pGanjioption=1&document_srl=8937">원본일정</a>
LOCATION:
SEQUENCE:1
STATUS:CONFIRMED
SUMMARY:원쟝안마을 현장포럼
TRANSP:TRANSPARENT
END:VEVENT
END:VCALENDAR
