BEGIN:VCALENDAR
PRODID:PlannerXE123
VERSION:2.0
CALSCALE:GREGORIAN
METHOD:PUBLISH
BEGIN:VEVENT
DTSTART:20250709
DTEND:20250710
DTSTAMP:20260421T174709Z
UID:(jslocal.org_8929)
CREATED:20260421T174709Z
DESCRIPTION:일시 &amp; 장소 14:30 ~ 18:00주요 내용 직원 역량강화\n\n<a href="http://jslocal.org/calendar/8929?iCal=ics_event&pGanjioption=1&document_srl=8929">원본일정</a>
LOCATION:
SEQUENCE:1
STATUS:CONFIRMED
SUMMARY:직원 역량강화
TRANSP:TRANSPARENT
END:VEVENT
END:VCALENDAR
