BEGIN:VCALENDAR
PRODID:PlannerXE123
VERSION:2.0
CALSCALE:GREGORIAN
METHOD:PUBLISH
BEGIN:VEVENT
DTSTART:20250624
DTEND:20250625
DTSTAMP:20260421T174741Z
UID:(jslocal.org_8696)
CREATED:20260421T174741Z
DESCRIPTION:일시 &amp; 장소 19:00 ~주요 내용 계남면 주민위원회 5차\n\n<a href="http://jslocal.org/calendar/8696?iCal=ics_event&pGanjioption=1&document_srl=8696">원본일정</a>
LOCATION:
SEQUENCE:1
STATUS:CONFIRMED
SUMMARY:계남면 주민위원회 5차
TRANSP:TRANSPARENT
END:VEVENT
END:VCALENDAR
