BEGIN:VCALENDAR
PRODID:PlannerXE123
VERSION:2.0
CALSCALE:GREGORIAN
METHOD:PUBLISH
BEGIN:VEVENT
DTSTART:20250614
DTEND:20250615
DTSTAMP:20260423T180841Z
UID:(jslocal.org_8680)
CREATED:20260423T180841Z
DESCRIPTION:일시 &amp; 장소 14:00 ~주요 내용 양명동마을 착수보고회\n\n<a href="http://jslocal.org/calendar/8680?iCal=ics_event&document_srl=8680">원본일정</a>
LOCATION:
SEQUENCE:1
STATUS:CONFIRMED
SUMMARY:양명동마을 착수보고회
TRANSP:TRANSPARENT
END:VEVENT
END:VCALENDAR
