BEGIN:VCALENDAR
PRODID:PlannerXE123
VERSION:2.0
CALSCALE:GREGORIAN
METHOD:PUBLISH
BEGIN:VEVENT
DTSTART:20250429
DTEND:20250430
DTSTAMP:20260423T180841Z
UID:(jslocal.org_8085)
CREATED:20260423T180841Z
DESCRIPTION:일시 &amp; 장소 10:00~11:00주요 내용\n\n<a href="http://jslocal.org/calendar/8085?iCal=ics_event&document_srl=8085">원본일정</a>
LOCATION:
SEQUENCE:1
STATUS:CONFIRMED
SUMMARY:천천면 3차 주민위원회
TRANSP:TRANSPARENT
END:VEVENT
END:VCALENDAR
