BEGIN:VCALENDAR
PRODID:PlannerXE123
VERSION:2.0
CALSCALE:GREGORIAN
METHOD:PUBLISH
BEGIN:VEVENT
DTSTART:20250420
DTEND:20250421
DTSTAMP:20260421T174727Z
UID:(jslocal.org_8083)
CREATED:20260421T174727Z
DESCRIPTION:일시 &amp; 장소 주요 내용\n\n<a href="http://jslocal.org/calendar/8083?iCal=ics_event&pGanjioption=1&document_srl=8083">원본일정</a>
LOCATION:
SEQUENCE:1
STATUS:CONFIRMED
SUMMARY:마을활동가 입문과정 모집 마감
TRANSP:TRANSPARENT
END:VEVENT
END:VCALENDAR
