BEGIN:VCALENDAR
PRODID:PlannerXE123
VERSION:2.0
CALSCALE:GREGORIAN
METHOD:PUBLISH
BEGIN:VEVENT
DTSTART:20250411
DTEND:20250412
DTSTAMP:20260423T180839Z
UID:(jslocal.org_8080)
CREATED:20260423T180839Z
DESCRIPTION:일시 &amp; 장소 주요 내용 마을리더 아카데미 선진지 견학 사전답사\n\n<a href="http://jslocal.org/calendar/8080?iCal=ics_event&document_srl=8080">원본일정</a>
LOCATION:
SEQUENCE:1
STATUS:CONFIRMED
SUMMARY:부여 송정 그림책마을 사전답사
TRANSP:TRANSPARENT
END:VEVENT
END:VCALENDAR
