BEGIN:VCALENDAR
PRODID:PlannerXE123
VERSION:2.0
CALSCALE:GREGORIAN
METHOD:PUBLISH
BEGIN:VEVENT
DTSTART:20250410
DTEND:20250411
DTSTAMP:20260423T180840Z
UID:(jslocal.org_8079)
CREATED:20260423T180840Z
DESCRIPTION:일시 &amp; 장소 16:30~주요 내용\n\n<a href="http://jslocal.org/calendar/8079?iCal=ics_event&document_srl=8079">원본일정</a>
LOCATION:
SEQUENCE:1
STATUS:CONFIRMED
SUMMARY:번암면 3차 주민위원회
TRANSP:TRANSPARENT
END:VEVENT
END:VCALENDAR
