BEGIN:VCALENDAR
PRODID:PlannerXE123
VERSION:2.0
CALSCALE:GREGORIAN
METHOD:PUBLISH
BEGIN:VEVENT
DTSTART:20250409
DTEND:20250410
DTSTAMP:20260423T180839Z
UID:(jslocal.org_8077)
CREATED:20260423T180839Z
DESCRIPTION:일시 &amp; 장소 주요 내용\n\n<a href="http://jslocal.org/calendar/8077?iCal=ics_event&document_srl=8077">원본일정</a>
LOCATION:
SEQUENCE:1
STATUS:CONFIRMED
SUMMARY:생큐 주간회의
TRANSP:TRANSPARENT
END:VEVENT
END:VCALENDAR
