BEGIN:VCALENDAR
PRODID:PlannerXE123
VERSION:2.0
CALSCALE:GREGORIAN
METHOD:PUBLISH
BEGIN:VEVENT
DTSTART:20250408
DTEND:20250409
DTSTAMP:20260421T174710Z
UID:(jslocal.org_8076)
CREATED:20260421T174710Z
DESCRIPTION:일시 &amp; 장소 11:00~12:00주요 내용\n\n<a href="http://jslocal.org/calendar/8076?iCal=ics_event&pGanjioption=1&document_srl=8076">원본일정</a>
LOCATION:
SEQUENCE:1
STATUS:CONFIRMED
SUMMARY:생생마을만들기 플러스 사업설명회
TRANSP:TRANSPARENT
END:VEVENT
END:VCALENDAR
