BEGIN:VCALENDAR
PRODID:PlannerXE123
VERSION:2.0
CALSCALE:GREGORIAN
METHOD:PUBLISH
BEGIN:VEVENT
DTSTART:20250404
DTEND:20250405
DTSTAMP:20260423T180839Z
UID:(jslocal.org_8074)
CREATED:20260423T180839Z
DESCRIPTION:일시 &amp; 장소 16:00~18:00주요 내용\n\n<a href="http://jslocal.org/calendar/8074?iCal=ics_event&document_srl=8074">원본일정</a>
LOCATION:
SEQUENCE:1
STATUS:CONFIRMED
SUMMARY:장수 사회적 협동조합 발기인 모임
TRANSP:TRANSPARENT
END:VEVENT
END:VCALENDAR
