BEGIN:VCALENDAR
PRODID:PlannerXE123
VERSION:2.0
CALSCALE:GREGORIAN
METHOD:PUBLISH
BEGIN:VEVENT
DTSTART:20250403
DTEND:20250404
DTSTAMP:20260423T180841Z
UID:(jslocal.org_8073)
CREATED:20260423T180841Z
DESCRIPTION:일시 &amp; 장소 14:00~16:00주요 내용\n\n<a href="http://jslocal.org/calendar/8073?iCal=ics_event&document_srl=8073">원본일정</a>
LOCATION:
SEQUENCE:1
STATUS:CONFIRMED
SUMMARY:계남면 주민 현장포럼
TRANSP:TRANSPARENT
END:VEVENT
END:VCALENDAR
