BEGIN:VCALENDAR
PRODID:PlannerXE123
VERSION:2.0
CALSCALE:GREGORIAN
METHOD:PUBLISH
BEGIN:VEVENT
DTSTART:20250326
DTEND:20250327
DTSTAMP:20260421T174711Z
UID:(jslocal.org_7855)
CREATED:20260421T174711Z
DESCRIPTION:일시 &amp; 장소 주요 내용\n\n<a href="http://jslocal.org/calendar/7855?iCal=ics_event&pGanjioption=1&document_srl=7855">원본일정</a>
LOCATION:
SEQUENCE:1
STATUS:CONFIRMED
SUMMARY:생큐 회의
TRANSP:TRANSPARENT
END:VEVENT
END:VCALENDAR
