BEGIN:VCALENDAR
PRODID:PlannerXE123
VERSION:2.0
CALSCALE:GREGORIAN
METHOD:PUBLISH
BEGIN:VEVENT
DTSTART:20250325
DTEND:20250326
DTSTAMP:20260421T174711Z
UID:(jslocal.org_7679)
CREATED:20260421T174711Z
DESCRIPTION:일시 &amp; 장소 10:30주요 내용 천천면 기초생활거점조성사업 주민위원회 2차 회의\n\n<a href="http://jslocal.org/calendar/7679?iCal=ics_event&pGanjioption=1&document_srl=7679">원본일정</a>
LOCATION:
SEQUENCE:1
STATUS:CONFIRMED
SUMMARY:천천면 주민위원회 2차 회의
TRANSP:TRANSPARENT
END:VEVENT
END:VCALENDAR
