BEGIN:VCALENDAR
PRODID:PlannerXE123
VERSION:2.0
CALSCALE:GREGORIAN
METHOD:PUBLISH
BEGIN:VEVENT
DTSTART:20260214T000000Z
DTEND:20260219T000000Z
DTSTAMP:20260419T230949Z
UID:(jslocal.org_6916)
CREATED:20260419T230949Z
DESCRIPTION:양선마을 예비 1단계 현장포럼\n\n<a href="http://jslocal.org/calendar/6916?iCal=ics_event&pGanjioption=1&document_srl=6916">원본일정</a>
LOCATION:
SEQUENCE:1
STATUS:CONFIRMED
SUMMARY:양선마을 예비 1단계 현장포럼
TRANSP:TRANSPARENT
END:VEVENT
END:VCALENDAR
